{
 "currentVersion": 10.81,
 "serviceDescription": "El servicio RasterRendering es un proveedor de representación ráster para varios usuarios.",
 "name": "Hosted/Subsidencia_CDMX_2018_2019",
 "description": "",
 "extent": {
  "xmin": -99.29552588888501,
  "ymin": 19.084244111114998,
  "xmax": -98.77441479236501,
  "ymax": 19.679521872225,
  "spatialReference": {
   "wkid": 6365,
   "latestWkid": 6365
  }
 },
 "initialExtent": {
  "xmin": -99.29552588888501,
  "ymin": 19.084244111114998,
  "xmax": -98.77441479236501,
  "ymax": 19.679521872225,
  "spatialReference": {
   "wkid": 6365,
   "latestWkid": 6365
  }
 },
 "fullExtent": {
  "xmin": -99.29552588888501,
  "ymin": 19.084244111114998,
  "xmax": -98.77441479236501,
  "ymax": 19.679521872225,
  "spatialReference": {
   "wkid": 6365,
   "latestWkid": 6365
  }
 },
 "pixelSizeX": 2.777777700000011E-4,
 "pixelSizeY": 2.777777700000005E-4,
 "datasetFormat": "TIFF",
 "uncompressedSize": 16081072,
 "blockWidth": 128,
 "blockHeight": 128,
 "compressionType": "LZW",
 "bandNames": [
  "Band_1"
 ],
 "allowCopy": true,
 "allowAnalysis": true,
 "bandCount": 1,
 "noDataValue": -2147483648,
 "noDataValues": [
  -2147483648
 ],
 "pixelType": "S32",
 "minPixelSize": 0,
 "maxPixelSize": 0,
 "copyrightText": "",
 "serviceDataType": "esriImageServiceDataTypeGeneric",
 "serviceSourceType": "esriImageServiceSourceTypeDataset",
 "minValues": [
  0
 ],
 "maxValues": [
  407
 ],
 "meanValues": [
  39.585857193135
 ],
 "stdvValues": [
  73.583537353112
 ],
 "objectIdField": "",
 "fields": [],
 "capabilities": "Image,Mensuration",
 "defaultMosaicMethod": "Center",
 "allowedMosaicMethods": "",
 "sortField": "",
 "sortValue": null,
 "sortAscending": true,
 "mosaicOperator": "First",
 "defaultCompressionQuality": 75,
 "defaultResamplingMethod": "Bilinear",
 "maxImageHeight": 4100,
 "maxImageWidth": 15000,
 "allowRasterFunction": true,
 "rasterFunctionInfos": [
  {
   "name": "None",
   "description": "",
   "help": ""
  }
 ],
 "rasterTypeInfos": [
  {
   "name": "Raster Dataset",
   "description": "Supports all ArcGIS Raster Datasets",
   "help": ""
  }
 ],
 "mensurationCapabilities": "Basic",
 "hasHistograms": false,
 "hasColormap": false,
 "hasRasterAttributeTable": false,
 "minScale": 0,
 "maxScale": 0,
 "exportTilesAllowed": false,
 "hasMultidimensions": false,
 "supportsStatistics": false,
 "supportsAdvancedQueries": false,
 "editFieldsInfo": null,
 "ownershipBasedAccessControlForRasters": null,
 "allowComputeTiePoints": false,
 "useStandardizedQueries": true,
 "advancedQueryCapabilities": {
  "useStandardizedQueries": true,
  "supportsStatistics": false,
  "supportsOrderBy": false,
  "supportsDistinct": false,
  "supportsPagination": false
 },
 "spatialReference": {
  "wkid": 6365,
  "latestWkid": 6365
 }
}
