{
 "currentVersion": 10.81,
 "serviceDescription": "El servicio RasterRendering es un proveedor de representación ráster para varios usuarios.",
 "name": "Imagery/CDMXREDMIL_IL_CDMX_2021Geológico",
 "description": "",
 "extent": {
  "xmin": 461659.7642999999,
  "ymin": 2106165.8301999997,
  "xmax": 506279.7642999999,
  "ymax": 2166415.8301999997,
  "spatialReference": {
   "wkid": 6369,
   "latestWkid": 6369
  }
 },
 "initialExtent": {
  "xmin": 461659.7642999999,
  "ymin": 2106165.8301999997,
  "xmax": 506279.7642999999,
  "ymax": 2166415.8301999997,
  "spatialReference": {
   "wkid": 6369,
   "latestWkid": 6369
  }
 },
 "fullExtent": {
  "xmin": 461659.7642999999,
  "ymin": 2106165.8301999997,
  "xmax": 506279.7642999999,
  "ymax": 2166415.8301999997,
  "spatialReference": {
   "wkid": 6369,
   "latestWkid": 6369
  }
 },
 "pixelSizeX": 10,
 "pixelSizeY": 10,
 "datasetFormat": "TIFF",
 "uncompressedSize": 13441775,
 "blockWidth": 128,
 "blockHeight": 128,
 "compressionType": "None",
 "bandNames": [
  "Band_1"
 ],
 "allowCopy": true,
 "allowAnalysis": true,
 "bandCount": 1,
 "noDataValue": 15,
 "noDataValues": [
  15
 ],
 "pixelType": "U4",
 "minPixelSize": 0,
 "maxPixelSize": 0,
 "copyrightText": "",
 "serviceDataType": "esriImageServiceDataTypeThematic",
 "serviceSourceType": "esriImageServiceSourceTypeDataset",
 "minValues": [
  1
 ],
 "maxValues": [
  5
 ],
 "meanValues": [
  2.1235976582965
 ],
 "stdvValues": [
  1.3864168327335
 ],
 "objectIdField": "",
 "fields": [],
 "capabilities": "Image, Metadata, Mensuration",
 "defaultMosaicMethod": "Center",
 "allowedMosaicMethods": "",
 "sortField": "",
 "sortValue": null,
 "sortAscending": true,
 "mosaicOperator": "First",
 "defaultCompressionQuality": 75,
 "defaultResamplingMethod": "Bilinear",
 "maxImageHeight": 4100,
 "maxImageWidth": 15000,
 "allowRasterFunction": true,
 "rasterFunctionInfos": [
  {
   "name": "None",
   "description": "",
   "help": ""
  }
 ],
 "rasterTypeInfos": [
  {
   "name": "Raster Dataset",
   "description": "Supports all ArcGIS Raster Datasets",
   "help": ""
  }
 ],
 "mensurationCapabilities": "Basic",
 "hasHistograms": true,
 "hasColormap": true,
 "hasRasterAttributeTable": true,
 "minScale": 0,
 "maxScale": 0,
 "exportTilesAllowed": false,
 "hasMultidimensions": false,
 "supportsStatistics": false,
 "supportsAdvancedQueries": false,
 "editFieldsInfo": null,
 "ownershipBasedAccessControlForRasters": null,
 "allowComputeTiePoints": false,
 "useStandardizedQueries": true,
 "advancedQueryCapabilities": {
  "useStandardizedQueries": true,
  "supportsStatistics": false,
  "supportsOrderBy": false,
  "supportsDistinct": false,
  "supportsPagination": false
 },
 "spatialReference": {
  "wkid": 6369,
  "latestWkid": 6369
 }
}
