{
 "currentVersion": 10.81,
 "serviceDescription": "El servicio RasterRendering es un proveedor de representación ráster para varios usuarios.",
 "name": "Imagery/LluvMARaster_Tr100_CDMX24Hrs",
 "description": "",
 "extent": {
  "xmin": 461663.21030006895,
  "ymin": 2106172.48499864,
  "xmax": 506279.50858043414,
  "ymax": 2166420.9900066922,
  "spatialReference": {
   "wkid": 6369,
   "latestWkid": 6369
  }
 },
 "initialExtent": {
  "xmin": 461663.21030006895,
  "ymin": 2106172.48499864,
  "xmax": 506279.50858043414,
  "ymax": 2166420.9900066922,
  "spatialReference": {
   "wkid": 6369,
   "latestWkid": 6369
  }
 },
 "fullExtent": {
  "xmin": 461663.21030006895,
  "ymin": 2106172.48499864,
  "xmax": 506279.50858043414,
  "ymax": 2166420.9900066922,
  "spatialReference": {
   "wkid": 6369,
   "latestWkid": 6369
  }
 },
 "pixelSizeX": 10.00141185392629,
 "pixelSizeY": 10.001411853926312,
 "datasetFormat": "TIFF",
 "uncompressedSize": 26873064,
 "blockWidth": 128,
 "blockHeight": 128,
 "compressionType": "LZW",
 "bandNames": [
  "Band_1"
 ],
 "allowCopy": true,
 "allowAnalysis": true,
 "bandCount": 1,
 "noDataValue": 255,
 "noDataValues": [
  255
 ],
 "pixelType": "U8",
 "minPixelSize": 0,
 "maxPixelSize": 0,
 "copyrightText": "",
 "serviceDataType": "esriImageServiceDataTypeThematic",
 "serviceSourceType": "esriImageServiceSourceTypeDataset",
 "minValues": [
  72
 ],
 "maxValues": [
  165
 ],
 "meanValues": [
  101.39751470699
 ],
 "stdvValues": [
  11.607526622526
 ],
 "objectIdField": "",
 "fields": [],
 "capabilities": "Image, Metadata, Mensuration",
 "defaultMosaicMethod": "Center",
 "allowedMosaicMethods": "",
 "sortField": "",
 "sortValue": null,
 "sortAscending": true,
 "mosaicOperator": "First",
 "defaultCompressionQuality": 75,
 "defaultResamplingMethod": "Bilinear",
 "maxImageHeight": 4100,
 "maxImageWidth": 15000,
 "allowRasterFunction": true,
 "rasterFunctionInfos": [
  {
   "name": "None",
   "description": "",
   "help": ""
  }
 ],
 "rasterTypeInfos": [
  {
   "name": "Raster Dataset",
   "description": "Supports all ArcGIS Raster Datasets",
   "help": ""
  }
 ],
 "mensurationCapabilities": "Basic",
 "hasHistograms": true,
 "hasColormap": true,
 "hasRasterAttributeTable": true,
 "minScale": 0,
 "maxScale": 0,
 "exportTilesAllowed": false,
 "hasMultidimensions": false,
 "supportsStatistics": false,
 "supportsAdvancedQueries": false,
 "editFieldsInfo": null,
 "ownershipBasedAccessControlForRasters": null,
 "allowComputeTiePoints": false,
 "useStandardizedQueries": true,
 "advancedQueryCapabilities": {
  "useStandardizedQueries": true,
  "supportsStatistics": false,
  "supportsOrderBy": false,
  "supportsDistinct": false,
  "supportsPagination": false
 },
 "spatialReference": {
  "wkid": 6369,
  "latestWkid": 6369
 }
}
