View In:
ArcGIS JavaScript
ArcGIS Online Map Viewer
ArcGIS Earth
ArcMap
View Footprint In:
ArcGIS Online Map Viewer
Service Description: El servicio RasterRendering es un proveedor de representación ráster para varios usuarios.
Name: Hosted/Subsidencia_CDMX_2018_2019
Description:
Single Fused Map Cache: false
Extent:
XMin: -99.29552588888501
YMin: 19.084244111114998
XMax: -98.77441479236501
YMax: 19.679521872225
Spatial Reference: 6365
(6365)
Initial Extent:
XMin: -99.29552588888501
YMin: 19.084244111114998
XMax: -98.77441479236501
YMax: 19.679521872225
Spatial Reference: 6365
(6365)
Full Extent:
XMin: -99.29552588888501
YMin: 19.084244111114998
XMax: -98.77441479236501
YMax: 19.679521872225
Spatial Reference: 6365
(6365)
Pixel Size X: 2.777777700000011E-4
Pixel Size Y: 2.777777700000005E-4
Band Count: 1
Pixel Type: S32
RasterFunction Infos: {"rasterFunctionInfos": [{
"name": "None",
"description": "",
"help": ""
}]}
Mensuration Capabilities: Basic
Has Histograms: false
Has Colormap: false
Has Multi Dimensions : false
Rendering Rule:
Min Scale: 0
Max Scale: 0
Copyright Text:
Service Data Type: esriImageServiceDataTypeGeneric
Min Values: 0
Max Values: 407
Mean Values: 39.585857193135
Standard Deviation Values: 73.583537353112
Object ID Field:
Fields:
None
Default Mosaic Method: Center
Allowed Mosaic Methods:
SortField:
SortValue: null
Mosaic Operator: First
Default Compression Quality: 75
Default Resampling Method: Bilinear
Max Record Count: null
Max Image Height: 4100
Max Image Width: 15000
Max Download Image Count: null
Max Mosaic Image Count: null
Allow Raster Function: true
Allow Copy: true
Allow Analysis: true
Allow Compute TiePoints: false
Supports Statistics: false
Supports Advanced Queries: false
Use StandardizedQueries: true
Raster Type Infos:
Name: Raster Dataset
Description: Supports all ArcGIS Raster Datasets
Help:
Has Raster Attribute Table: false
Edit Fields Info: null
Ownership Based AccessControl For Rasters: null
Child Resources:
Info
Statistics
Key Properties
Legend
Raster Function Infos
Supported Operations:
Export Image
Identify
Measure
Compute Histograms
Compute Statistics Histograms
Get Samples
Compute Class Statistics
Query Boundary
Compute Pixel Location
Validate
Project