View In:
ArcGIS JavaScript
ArcGIS Online Map Viewer
ArcGIS Earth
ArcMap
View Footprint In:
ArcGIS Online Map Viewer
Service Description: El servicio RasterRendering es un proveedor de representación ráster para varios usuarios.
Name: Imagery/CDMXREDMIL_IL_CDMX_2021Geológico
Description:
Single Fused Map Cache: false
Extent:
XMin: 461659.7642999999
YMin: 2106165.8301999997
XMax: 506279.7642999999
YMax: 2166415.8301999997
Spatial Reference: 6369
(6369)
Initial Extent:
XMin: 461659.7642999999
YMin: 2106165.8301999997
XMax: 506279.7642999999
YMax: 2166415.8301999997
Spatial Reference: 6369
(6369)
Full Extent:
XMin: 461659.7642999999
YMin: 2106165.8301999997
XMax: 506279.7642999999
YMax: 2166415.8301999997
Spatial Reference: 6369
(6369)
Pixel Size X: 10.0
Pixel Size Y: 10.0
Band Count: 1
Pixel Type: U4
RasterFunction Infos: {"rasterFunctionInfos": [{
"name": "None",
"description": "",
"help": ""
}]}
Mensuration Capabilities: Basic
Has Histograms: true
Has Colormap: true
Has Multi Dimensions : false
Rendering Rule:
Min Scale: 0
Max Scale: 0
Copyright Text:
Service Data Type: esriImageServiceDataTypeThematic
Min Values: 1
Max Values: 5
Mean Values: 2.1235976582965
Standard Deviation Values: 1.3864168327335
Object ID Field:
Fields:
None
Default Mosaic Method: Center
Allowed Mosaic Methods:
SortField:
SortValue: null
Mosaic Operator: First
Default Compression Quality: 75
Default Resampling Method: Bilinear
Max Record Count: null
Max Image Height: 4100
Max Image Width: 15000
Max Download Image Count: null
Max Mosaic Image Count: null
Allow Raster Function: true
Allow Copy: true
Allow Analysis: true
Allow Compute TiePoints: false
Supports Statistics: false
Supports Advanced Queries: false
Use StandardizedQueries: true
Raster Type Infos:
Name: Raster Dataset
Description: Supports all ArcGIS Raster Datasets
Help:
Has Raster Attribute Table: true
Edit Fields Info: null
Ownership Based AccessControl For Rasters: null
Child Resources:
Info
Raster Attribute Table
Histograms
Statistics
Key Properties
Color Map
Legend
Raster Function Infos
Supported Operations:
Export Image
Identify
Measure
Compute Histograms
Compute Statistics Histograms
Get Samples
Compute Class Statistics
Query Boundary
Compute Pixel Location
Validate
Project